BEGIN:VCALENDAR
VERSION:2.0
PRODID:-//The Coffee Oasis - ECPv6.1.1//NONSGML v1.0//EN
CALSCALE:GREGORIAN
METHOD:PUBLISH
X-ORIGINAL-URL:https://thecoffeeoasis.com
X-WR-CALDESC:Events for The Coffee Oasis
REFRESH-INTERVAL;VALUE=DURATION:PT1H
X-Robots-Tag:noindex
X-PUBLISHED-TTL:PT1H
BEGIN:VTIMEZONE
TZID:America/Los_Angeles
BEGIN:DAYLIGHT
TZOFFSETFROM:-0800
TZOFFSETTO:-0700
TZNAME:PDT
DTSTART:20230312T100000
END:DAYLIGHT
BEGIN:STANDARD
TZOFFSETFROM:-0700
TZOFFSETTO:-0800
TZNAME:PST
DTSTART:20231105T090000
END:STANDARD
END:VTIMEZONE
BEGIN:VEVENT
DTSTART;TZID=America/Los_Angeles:20230520T080000
DTEND;TZID=America/Los_Angeles:20230520T160000
DTSTAMP:20230820T141109
CREATED:20230502T223551Z
LAST-MODIFIED:20230510T173523Z
UID:10000159-1684569600-1684598400@thecoffeeoasis.com
SUMMARY:Tacoma Café & Youth Center Grand Opening
DESCRIPTION:You are invited to the Grand Opening of The Coffee Oasis Tacoma Café and Youth Center on Saturday\, May 20\, 2023. Join us for a ribbon cutting ceremony\, Executive Director address\, and refreshments. Invite your friends to sample The Coffee Oasis Café food and drinks\, and learn about the mission! \n10AM: RIBBON CUTTING CEREMONY\n– Executive Director Address\n– Special Guest Speakers \n8AM – 4PM: REFRESHMENTS\n– Free Coffee & Food Samples\n– Open Coffee Bar \nSATURDAY\, MAY 20\, 2023\nLocation: 1424 Tacoma Ave S\, Tacoma\, WA 98402 \n  \n \nMission: Restoring communities through compassionate youth programs and coffee businesses.\nThousands of youth in Pierce County are hurting\, homeless\, and hindered from living their full potential. Many of these youth battle depression\, isolation\, addiction\, and trauma–often fighting to survive just for the day.\n\nIn August of 2019\, The Coffee Oasis opened the first underage youth shelter in Pierce County. Since then\, hundreds of youth have found safety\, healing\, and a home through The Coffee Oasis Youth Programs. Now\, we are excited to announce the Grand Opening of The Coffee Oasis Tacoma Café and Youth Center will be on May 20\, 2023. Invite your friends to sample The Coffee Oasis Café food and drinks\, and learn about the mission!
URL:https://thecoffeeoasis.com/event/tacoma-cafe-youth-center-grand-opening/
LOCATION:The Coffee Oasis Tacoma Cafe\, 1424 Tacoma Ave S\, Tacoma\, WA\, 98402\, United States
CATEGORIES:All Events,Celebration,Community Events
ATTACH;FMTTYPE=image/jpeg:https://thecoffeeoasis.com/wp-content/uploads/2023/05/Tacoma-Grand-Opening_Event_Featured-Image_1200x628px-e1683152315369.jpg
END:VEVENT
END:VCALENDAR