BEGIN:VCALENDAR
VERSION:2.0
PRODID:-//The Coffee Oasis - ECPv6.1.1//NONSGML v1.0//EN
CALSCALE:GREGORIAN
METHOD:PUBLISH
X-WR-CALNAME:The Coffee Oasis
X-ORIGINAL-URL:https://thecoffeeoasis.com
X-WR-CALDESC:Events for The Coffee Oasis
REFRESH-INTERVAL;VALUE=DURATION:PT1H
X-Robots-Tag:noindex
X-PUBLISHED-TTL:PT1H
BEGIN:VTIMEZONE
TZID:America/Los_Angeles
BEGIN:DAYLIGHT
TZOFFSETFROM:-0800
TZOFFSETTO:-0700
TZNAME:PDT
DTSTART:20220313T100000
END:DAYLIGHT
BEGIN:STANDARD
TZOFFSETFROM:-0700
TZOFFSETTO:-0800
TZNAME:PST
DTSTART:20221106T090000
END:STANDARD
END:VTIMEZONE
BEGIN:VEVENT
DTSTART;TZID=America/Los_Angeles:20220528T020000
DTEND;TZID=America/Los_Angeles:20220528T100000
DTSTAMP:20230820T140952
CREATED:20220523T184023Z
LAST-MODIFIED:20220523T184042Z
UID:10000128-1653703200-1653732000@thecoffeeoasis.com
SUMMARY:Crisis Services Training
DESCRIPTION:Crisis Services Training\n9m-5pm May 28\, 2022\nInterested in volunteering with The Coffee Oasis Crisis Services team as a text line responder or supportive mentor? Join us for our next Crisis Services Training!  \nEmail the Manager of Crisis Services\, Joshua Goss\, for more information or to sign up: joshua.goss@thecoffeeoasis.com
URL:https://thecoffeeoasis.com/event/crisis-services-training-may-2022/
LOCATION:The Coffee Oasis – Dave Frederick Administration Building\, 837 4th Street\, Bremerton\, WA\, 98337\, United States
CATEGORIES:All Events,Community Events,Informational Events,Opportunities to Get Involved,Volunteer Orientation
ORGANIZER;CN="Joshua%20Goss%2C%20Crisis%20Services%20Manager":MAILTO:joshua.goss@thecoffeeoasis.com
END:VEVENT
END:VCALENDAR