BEGIN:VCALENDAR
VERSION:2.0
PRODID:-//The Coffee Oasis - ECPv6.1.1//NONSGML v1.0//EN
CALSCALE:GREGORIAN
METHOD:PUBLISH
X-ORIGINAL-URL:https://thecoffeeoasis.com
X-WR-CALDESC:Events for The Coffee Oasis
REFRESH-INTERVAL;VALUE=DURATION:PT1H
X-Robots-Tag:noindex
X-PUBLISHED-TTL:PT1H
BEGIN:VTIMEZONE
TZID:America/Los_Angeles
BEGIN:DAYLIGHT
TZOFFSETFROM:-0800
TZOFFSETTO:-0700
TZNAME:PDT
DTSTART:20210314T100000
END:DAYLIGHT
BEGIN:STANDARD
TZOFFSETFROM:-0700
TZOFFSETTO:-0800
TZNAME:PST
DTSTART:20211107T090000
END:STANDARD
BEGIN:DAYLIGHT
TZOFFSETFROM:-0800
TZOFFSETTO:-0700
TZNAME:PDT
DTSTART:20220313T100000
END:DAYLIGHT
BEGIN:STANDARD
TZOFFSETFROM:-0700
TZOFFSETTO:-0800
TZNAME:PST
DTSTART:20221106T090000
END:STANDARD
END:VTIMEZONE
BEGIN:VEVENT
DTSTART;TZID=America/Los_Angeles:20211106T090000
DTEND;TZID=America/Los_Angeles:20211106T110000
DTSTAMP:20230820T141021
CREATED:20211027T233007Z
LAST-MODIFIED:20211103T184022Z
UID:10000100-1636189200-1636196400@thecoffeeoasis.com
SUMMARY:Volunteer Orientation - Online
DESCRIPTION:Join us online for a time set aside to learn about youth homelessness and how you can join The Coffee Oasis in bringing hope and opportunity to hurting youth through volunteering. \n  \nRegister for Volunteer Orientation > \n  \nQuestions? Contact The Coffee Oasis Volunteer Coordinator:\nSheryl Piercy // sheryl.piercy@thecoffeeoasis.com // 360.930.9284 \n 
URL:https://thecoffeeoasis.com/event/volunteer-orientation-online-2021-11/
LOCATION:Online\, WA\, United States
CATEGORIES:Opportunities to Get Involved,Volunteer Orientation
ATTACH;FMTTYPE=image/jpeg:https://thecoffeeoasis.com/wp-content/uploads/2021/03/Get-Involved-1200x675-2021.jpg
END:VEVENT
BEGIN:VEVENT
DTSTART;TZID=America/Los_Angeles:20211130T050000
DTEND;TZID=America/Los_Angeles:20211130T235900
DTSTAMP:20230820T141021
CREATED:20211027T224340Z
LAST-MODIFIED:20211201T020555Z
UID:10000098-1638248400-1638316740@thecoffeeoasis.com
SUMMARY:GivingTuesday
DESCRIPTION:Hundreds of youth are experiencing homelessness in Kitsap\, Mason\, and Pierce County. Often battling to survive just for the day. This GivingTuesday\, you can offer them a place to find safety\, healing\, and a home through The Coffee Oasis. You can help youth not only persevere\, but thrive. \nYour gift will help provide youth and young adults with safe shared spaces\, mentorship\, goal setting\, job training\, shelter\, supportive housing\, and crisis intervention. \nYour gift can be matched by Facebook on GivingTuesday! \nStarting at 5 am PST / 8 am EST on GivingTuesday\, donations made through Facebook will be MATCHED up to $100K per nonprofit! Meta will match $8 million USD in qualifying donations made on Facebook. Matches are made on a first-come\, first-served basis and will continue until the $8M USD fund has been met—so give early on November 30 to ensure your gift is matched! \nGivingTuesday Facebook Fundraiser >\n\nWhat is GivingTuesday? \nGivingTuesday is a global generosity movement\, unleashing the power of radical generosity to transform communities and the world. \nGivingTuesday was created in 2012 as a simple idea: a day that encourages people to do good. Over the years\, this idea has grown into a year-round global movement that inspires hundreds of millions of people to give\, collaborate\, and celebrate generosity. It is an opportunity for people around the world to come together to share what they have with those in need. \nThis GivingTuesday\, together we can restore our community. Together\, we can create pathways of opportunity for youth to be restored in heart\, soul\, mind\, and body.
URL:https://thecoffeeoasis.com/event/givingtuesday-2021/
LOCATION:Online\, WA\, United States
CATEGORIES:All Events,Campaigns,Community Events,Fundraisers,Opportunities to Get Involved
ATTACH;FMTTYPE=image/jpeg:https://thecoffeeoasis.com/wp-content/uploads/2021/11/Giving-Tuesday-2021_1200x628_v2.jpg
END:VEVENT
BEGIN:VEVENT
DTSTART;TZID=America/Los_Angeles:20220205T090000
DTEND;TZID=America/Los_Angeles:20220205T110000
DTSTAMP:20230820T141021
CREATED:20211103T185157Z
LAST-MODIFIED:20220111T205926Z
UID:10000104-1644051600-1644058800@thecoffeeoasis.com
SUMMARY:Volunteer Orientation – Online
DESCRIPTION:Join us online for a time set aside to learn about youth homelessness and how you can join The Coffee Oasis in bringing hope and opportunity to hurting youth through volunteering. \n  \nRegister for Volunteer Orientation > \n  \nQuestions? Contact The Coffee Oasis Volunteer Coordinator: volunteer@thecoffeeoasis.com \n 
URL:https://thecoffeeoasis.com/event/volunteer-orientation-online/
LOCATION:Online\, WA\, United States
CATEGORIES:All Events,Community Events,Informational Events,Opportunities to Get Involved,Volunteer Orientation
ATTACH;FMTTYPE=image/jpeg:https://thecoffeeoasis.com/wp-content/uploads/2021/03/Get-Involved-1200x675-2021.jpg
END:VEVENT
BEGIN:VEVENT
DTSTART;TZID=America/Los_Angeles:20220312T090000
DTEND;TZID=America/Los_Angeles:20220312T110000
DTSTAMP:20230820T141021
CREATED:20211103T190904Z
LAST-MODIFIED:20220111T210236Z
UID:10000105-1647075600-1647082800@thecoffeeoasis.com
SUMMARY:Volunteer Orientation – Online
DESCRIPTION:Join us online for a time set aside to learn about youth homelessness and how you can join The Coffee Oasis in bringing hope and opportunity to hurting youth through volunteering. \n  \nRegister for Volunteer Orientation > \n  \nQuestions? Contact The Coffee Oasis Volunteer Coordinator: volunteer@thecoffeeoasis.com \n 
URL:https://thecoffeeoasis.com/event/volunteer-orientation-online-2022-03-12/
LOCATION:Online\, WA\, United States
CATEGORIES:All Events,Community Events,Informational Events,Opportunities to Get Involved,Volunteer Orientation
ATTACH;FMTTYPE=image/jpeg:https://thecoffeeoasis.com/wp-content/uploads/2021/03/Get-Involved-1200x675-2021.jpg
END:VEVENT
BEGIN:VEVENT
DTSTART;TZID=America/Los_Angeles:20220409T090000
DTEND;TZID=America/Los_Angeles:20220409T110000
DTSTAMP:20230820T141021
CREATED:20211103T191234Z
LAST-MODIFIED:20220111T210356Z
UID:10000106-1649494800-1649502000@thecoffeeoasis.com
SUMMARY:Volunteer Orientation – Online
DESCRIPTION:Join us online for a time set aside to learn about youth homelessness and how you can join The Coffee Oasis in bringing hope and opportunity to hurting youth through volunteering. \n  \nRegister for Volunteer Orientation > \n  \nQuestions? Contact The Coffee Oasis Volunteer Coordinator: volunteer@thecoffeeoasis.com \n 
URL:https://thecoffeeoasis.com/event/volunteer-orientation-online-2022-04-09/
LOCATION:Online\, WA\, United States
CATEGORIES:All Events,Community Events,Informational Events,Opportunities to Get Involved,Volunteer Orientation
ATTACH;FMTTYPE=image/jpeg:https://thecoffeeoasis.com/wp-content/uploads/2021/03/Get-Involved-1200x675-2021.jpg
END:VEVENT
BEGIN:VEVENT
DTSTART;VALUE=DATE:20220502
DTEND;VALUE=DATE:20220505
DTSTAMP:20230820T141021
CREATED:20220426T193449Z
LAST-MODIFIED:20220426T194245Z
UID:10000127-1651510800-1651683599@thecoffeeoasis.com
SUMMARY:Washington's GiveBIG
DESCRIPTION:On May 3-4\, thousands of people are going to show their support for their favorite Washington nonprofits during #GiveBIG. Will you consider giving youth a place to find safety\, healing\, and a home through The Coffee Oasis during GiveBIG?\n  \nHelp Spread the Word: Tell your friends and colleagues about why you support The Coffee Oasis!\nHere are 3 ways you can help spread the word:\n1. Share about #GiveBIG and The Coffee Oasis youth programs on social media! The Coffee Press blog is full of youth stories you can share: thecoffeeoasis.com/blog\n2. Create a personal Fundraiser on Washington Gives and share with your friends and colleagues: wagives.org/organization/thecoffeeoasis\n3. Invite your friends to this Facebook Event\n  \nDon’t forget to mark your calendars for Washington’s GiveBIG: May 3-4!
URL:https://thecoffeeoasis.com/event/washington-givebig-2022/
LOCATION:Online\, WA\, United States
CATEGORIES:All Events,Community Events,Fundraisers,Opportunities to Get Involved
ATTACH;FMTTYPE=image/jpeg:https://thecoffeeoasis.com/wp-content/uploads/2022/04/GiveBIG-FB-event-1200x628-1.jpg
END:VEVENT
BEGIN:VEVENT
DTSTART;TZID=America/Los_Angeles:20220709T090000
DTEND;TZID=America/Los_Angeles:20220709T110000
DTSTAMP:20230820T141021
CREATED:20220610T232413Z
LAST-MODIFIED:20220624T182716Z
UID:10000136-1657357200-1657364400@thecoffeeoasis.com
SUMMARY:Volunteer Orientation
DESCRIPTION:Volunteer Orientation\nJoin us online for a time set aside to learn about youth homelessness and how you can join The Coffee Oasis in bringing hope and opportunity to hurting youth through volunteering. \n  \nRegister for Volunteer Orientation > \n  \nQuestions? Contact The Coffee Oasis Volunteer Coordinator: volunteer@thecoffeeoasis.com \n 
URL:https://thecoffeeoasis.com/event/volunteer-orientation-online-2022-07-09/
LOCATION:Online\, WA\, United States
CATEGORIES:All Events,Informational Events,Opportunities to Get Involved,Volunteer Orientation
ATTACH;FMTTYPE=image/jpeg:https://thecoffeeoasis.com/wp-content/uploads/2022/04/Get-Involved-1200x628_web.jpg
ORGANIZER;CN="The%20Coffee%20Oasis%20Volunteer%20Coordinator":MAILTO:volunteer@thecoffeeoasis.com
END:VEVENT
BEGIN:VEVENT
DTSTART;TZID=America/Los_Angeles:20220806T090000
DTEND;TZID=America/Los_Angeles:20220806T110000
DTSTAMP:20230820T141021
CREATED:20220610T232803Z
LAST-MODIFIED:20220624T182828Z
UID:10000137-1659776400-1659783600@thecoffeeoasis.com
SUMMARY:Volunteer Orientation
DESCRIPTION:Volunteer Orientation\nJoin us online for a time set aside to learn about youth homelessness and how you can join The Coffee Oasis in bringing hope and opportunity to hurting youth through volunteering. \n  \nRegister for Volunteer Orientation > \n  \nQuestions? Contact The Coffee Oasis Volunteer Coordinator: volunteer@thecoffeeoasis.com \n 
URL:https://thecoffeeoasis.com/event/volunteer-orientation-online-2022-08-06/
LOCATION:Online\, WA\, United States
CATEGORIES:All Events,Informational Events,Opportunities to Get Involved,Volunteer Orientation
ATTACH;FMTTYPE=image/jpeg:https://thecoffeeoasis.com/wp-content/uploads/2022/04/Get-Involved-1200x628_web.jpg
ORGANIZER;CN="The%20Coffee%20Oasis%20Volunteer%20Coordinator":MAILTO:volunteer@thecoffeeoasis.com
END:VEVENT
BEGIN:VEVENT
DTSTART;TZID=America/Los_Angeles:20220903T090000
DTEND;TZID=America/Los_Angeles:20220903T110000
DTSTAMP:20230820T141021
CREATED:20220610T233236Z
LAST-MODIFIED:20220624T182856Z
UID:10000138-1662195600-1662202800@thecoffeeoasis.com
SUMMARY:Volunteer Orientation
DESCRIPTION:Volunteer Orientation\nJoin us online for a time set aside to learn about youth homelessness and how you can join The Coffee Oasis in bringing hope and opportunity to hurting youth through volunteering. \n  \nRegister for Volunteer Orientation > \n  \nQuestions? Contact The Coffee Oasis Volunteer Coordinator: volunteer@thecoffeeoasis.com \n 
URL:https://thecoffeeoasis.com/event/volunteer-orientation-online-2022-09-03/
LOCATION:Online\, WA\, United States
CATEGORIES:All Events,Informational Events,Opportunities to Get Involved,Volunteer Orientation
ATTACH;FMTTYPE=image/jpeg:https://thecoffeeoasis.com/wp-content/uploads/2022/04/Get-Involved-1200x628_web.jpg
ORGANIZER;CN="The%20Coffee%20Oasis%20Volunteer%20Coordinator":MAILTO:volunteer@thecoffeeoasis.com
END:VEVENT
BEGIN:VEVENT
DTSTART;TZID=America/Los_Angeles:20221001T090000
DTEND;TZID=America/Los_Angeles:20221001T110000
DTSTAMP:20230820T141021
CREATED:20220610T233744Z
LAST-MODIFIED:20220624T182929Z
UID:10000139-1664614800-1664622000@thecoffeeoasis.com
SUMMARY:Volunteer Orientation
DESCRIPTION:Volunteer Orientation\nJoin us online for a time set aside to learn about youth homelessness and how you can join The Coffee Oasis in bringing hope and opportunity to hurting youth through volunteering. \n  \nRegister for Volunteer Orientation > \n  \nQuestions? Contact The Coffee Oasis Volunteer Coordinator: volunteer@thecoffeeoasis.com \n 
URL:https://thecoffeeoasis.com/event/volunteer-orientation-online-2022-10-01/
LOCATION:Online\, WA\, United States
CATEGORIES:All Events,Informational Events,Opportunities to Get Involved,Volunteer Orientation
ATTACH;FMTTYPE=image/jpeg:https://thecoffeeoasis.com/wp-content/uploads/2022/04/Get-Involved-1200x628_web.jpg
ORGANIZER;CN="The%20Coffee%20Oasis%20Volunteer%20Coordinator":MAILTO:volunteer@thecoffeeoasis.com
END:VEVENT
BEGIN:VEVENT
DTSTART;TZID=America/Los_Angeles:20221105T090000
DTEND;TZID=America/Los_Angeles:20221105T110000
DTSTAMP:20230820T141021
CREATED:20220610T234316Z
LAST-MODIFIED:20220624T183059Z
UID:10000140-1667638800-1667646000@thecoffeeoasis.com
SUMMARY:Volunteer Orientation
DESCRIPTION:Volunteer Orientation\nJoin us online for a time set aside to learn about youth homelessness and how you can join The Coffee Oasis in bringing hope and opportunity to hurting youth through volunteering. \n  \nRegister for Volunteer Orientation > \n  \nQuestions? Contact The Coffee Oasis Volunteer Coordinator: volunteer@thecoffeeoasis.com \n 
URL:https://thecoffeeoasis.com/event/volunteer-orientation-online-2022-11-05/
LOCATION:Online\, WA\, United States
CATEGORIES:All Events,Informational Events,Opportunities to Get Involved,Volunteer Orientation
ATTACH;FMTTYPE=image/jpeg:https://thecoffeeoasis.com/wp-content/uploads/2022/04/Get-Involved-1200x628_web.jpg
ORGANIZER;CN="The%20Coffee%20Oasis%20Volunteer%20Coordinator":MAILTO:volunteer@thecoffeeoasis.com
END:VEVENT
BEGIN:VEVENT
DTSTART;TZID=America/Los_Angeles:20221203T090000
DTEND;TZID=America/Los_Angeles:20221203T110000
DTSTAMP:20230820T141021
CREATED:20220610T234850Z
LAST-MODIFIED:20220624T183131Z
UID:10000141-1670058000-1670065200@thecoffeeoasis.com
SUMMARY:Volunteer Orientation
DESCRIPTION:Volunteer Orientation\nJoin us online for a time set aside to learn about youth homelessness and how you can join The Coffee Oasis in bringing hope and opportunity to hurting youth through volunteering. \n  \nRegister for Volunteer Orientation > \n  \nQuestions? Contact The Coffee Oasis Volunteer Coordinator: volunteer@thecoffeeoasis.com \n 
URL:https://thecoffeeoasis.com/event/volunteer-orientation-online-2022-12-03/
LOCATION:Online\, WA\, United States
CATEGORIES:All Events,Informational Events,Opportunities to Get Involved,Volunteer Orientation
ATTACH;FMTTYPE=image/jpeg:https://thecoffeeoasis.com/wp-content/uploads/2022/04/Get-Involved-1200x628_web.jpg
ORGANIZER;CN="The%20Coffee%20Oasis%20Volunteer%20Coordinator":MAILTO:volunteer@thecoffeeoasis.com
END:VEVENT
END:VCALENDAR