BEGIN:VCALENDAR
VERSION:2.0
PRODID:-//The Coffee Oasis - ECPv6.1.1//NONSGML v1.0//EN
CALSCALE:GREGORIAN
METHOD:PUBLISH
X-WR-CALNAME:The Coffee Oasis
X-ORIGINAL-URL:https://thecoffeeoasis.com
X-WR-CALDESC:Events for The Coffee Oasis
REFRESH-INTERVAL;VALUE=DURATION:PT1H
X-Robots-Tag:noindex
X-PUBLISHED-TTL:PT1H
BEGIN:VTIMEZONE
TZID:America/Los_Angeles
BEGIN:DAYLIGHT
TZOFFSETFROM:-0800
TZOFFSETTO:-0700
TZNAME:PDT
DTSTART:20230312T100000
END:DAYLIGHT
BEGIN:STANDARD
TZOFFSETFROM:-0700
TZOFFSETTO:-0800
TZNAME:PST
DTSTART:20231105T090000
END:STANDARD
END:VTIMEZONE
BEGIN:VEVENT
DTSTART;TZID=America/Los_Angeles:20230708T100000
DTEND;TZID=America/Los_Angeles:20230708T140000
DTSTAMP:20230820T140958
CREATED:20230523T185858Z
LAST-MODIFIED:20230523T191359Z
UID:10000160-1688810400-1688824800@thecoffeeoasis.com
SUMMARY:Oasis Block Party
DESCRIPTION:Join us at Kiwanis Park in Bremerton for music\, games\, and fun for the whole family at our Oasis Block Party on Saturday\, July 8\, 2023 from 10 AM – 2 PM! \nKiwanis Park \n1701 5th St.\nBremerton\, WA 98337 \nSaturday\, July 8\, 2023 \n10 AM – 2 PM
URL:https://thecoffeeoasis.com/event/oasis-block-party/
LOCATION:Kiwanis Park\, 1701 5th St.\, Bremerton\, WA\, 98337\, United States
CATEGORIES:All Events,Community Events,Events for All Those Ages 13-25,Party
ATTACH;FMTTYPE=image/png:https://thecoffeeoasis.com/wp-content/uploads/2023/05/1.png
ORGANIZER;CN="Jeri%20Delaney%2C%20Area%20Director%20of%20Youth%20Programs%20Kitsap":MAILTO:jeri.delaney@thecoffeeoasis.com
END:VEVENT
END:VCALENDAR