BEGIN:VCALENDAR
VERSION:2.0
PRODID:-//The Coffee Oasis - ECPv6.1.1//NONSGML v1.0//EN
CALSCALE:GREGORIAN
METHOD:PUBLISH
X-WR-CALNAME:The Coffee Oasis
X-ORIGINAL-URL:https://thecoffeeoasis.com
X-WR-CALDESC:Events for The Coffee Oasis
REFRESH-INTERVAL;VALUE=DURATION:PT1H
X-Robots-Tag:noindex
X-PUBLISHED-TTL:PT1H
BEGIN:VTIMEZONE
TZID:America/Los_Angeles
BEGIN:DAYLIGHT
TZOFFSETFROM:-0800
TZOFFSETTO:-0700
TZNAME:PDT
DTSTART:20230312T100000
END:DAYLIGHT
BEGIN:STANDARD
TZOFFSETFROM:-0700
TZOFFSETTO:-0800
TZNAME:PST
DTSTART:20231105T090000
END:STANDARD
END:VTIMEZONE
BEGIN:VEVENT
DTSTART;TZID=America/Los_Angeles:20230513T083000
DTEND;TZID=America/Los_Angeles:20230513T170000
DTSTAMP:20230820T132712
CREATED:20230412T180509Z
LAST-MODIFIED:20230412T182635Z
UID:10000158-1683966600-1683997200@thecoffeeoasis.com
SUMMARY:18th Annual Ride for Fallen Riders
DESCRIPTION:The Ride For Fallen Riders is a family friendly motorcycle run. Starting at Bayside Church in Kingston\, and Coffee will be served by The Coffee Oasis at Bayside Church before the riders take off.\nThere will be 4 checkpoint stops along the route where raffles and poker style games will be played. Each stop will have rider volunteers stationed to facilitate.\nThe ride will end at Rich’s Custom Seats in Kingston.\nAt Rich’s Custom seats there will be dinner; Pulled brisket and shredded chicken sliders\, cookies\, rolls\, macaroni salad\, and water bottles. Dinner is served at 3pm.\nThere will be a band.\nThe Coffee Oasis will do a presentation. \n$25 registration ride fee: includes coffee route map\, ride pin\, dinner\, raffle ticket\, bottled water. \nRegistration opens @ 8:30 am\nFirst bikes out @ 9:30 am\nRegistration closes @ 10 am\n3pm dinner at Rich’s Custom Seats\n5pm ending time \nAll donations\, registration fees\, and raffle ticket purchases go to benefit The Coffee Oasis. \nJoining the NW Freedom Riders Club is the Christian Motorcycle Association\, Combat Veterans Club\, and ANYONE interested in riding with these friends of The Coffee Oasis. \nYou can show up to sponsor a rider\, be a rider\, or come to the dinner and band for $10 at 3pm. \nEveryone is welcome to come support this Ride For Fallen Riders and The Coffee Oasis.
URL:https://thecoffeeoasis.com/event/18th-annual-ride-for-fallen-riders/
LOCATION:Bayside Church and Rich’s Custom Seats. Both in Kingston\, Kingston\, WA\, United States
CATEGORIES:All Events,Community Events,Fundraisers
ATTACH;FMTTYPE=image/jpeg:https://thecoffeeoasis.com/wp-content/uploads/2023/04/Flyer-for-web-derrick-means.jpg
ORGANIZER;CN="Derrick%20Means%2C%20Kitsap%20Community%20Development%20Officer":MAILTO:derrick.means@thecoffeeoasis.com
END:VEVENT
END:VCALENDAR