BEGIN:VCALENDAR
VERSION:2.0
PRODID:-//The Coffee Oasis - ECPv6.1.1//NONSGML v1.0//EN
CALSCALE:GREGORIAN
METHOD:PUBLISH
X-ORIGINAL-URL:https://thecoffeeoasis.com
X-WR-CALDESC:Events for The Coffee Oasis
REFRESH-INTERVAL;VALUE=DURATION:PT1H
X-Robots-Tag:noindex
X-PUBLISHED-TTL:PT1H
BEGIN:VTIMEZONE
TZID:America/Los_Angeles
BEGIN:DAYLIGHT
TZOFFSETFROM:-0800
TZOFFSETTO:-0700
TZNAME:PDT
DTSTART:20210314T100000
END:DAYLIGHT
BEGIN:STANDARD
TZOFFSETFROM:-0700
TZOFFSETTO:-0800
TZNAME:PST
DTSTART:20211107T090000
END:STANDARD
END:VTIMEZONE
BEGIN:VEVENT
DTSTART;TZID=America/Los_Angeles:20211118T180000
DTEND;TZID=America/Los_Angeles:20211118T193000
DTSTAMP:20230820T132703
CREATED:20211027T185650Z
LAST-MODIFIED:20211130T193344Z
UID:10000089-1637258400-1637263800@thecoffeeoasis.com
SUMMARY:Host Home Info Session - Virtual
DESCRIPTION:Join Host Homes Supervisor\, Jenny Berthelsen\, over zoom for an evening of Q&A and information about The Coffee Oasis Host Home Program! \n  \nYouth are in need of a safe home.\nYou can welcome a youth into your home by becoming a Host Home.\nAs a Host Home\, you can offer youth life-altering stability\, support\, and hope. The Coffee Oasis will guide you through the whole process\, provide training\, and carefully match you with a youth who is in need. \n  \nQuestions? Contact The Coffee Oasis Host Homes Supervisor:\nJenny Berthelsen // jenny.berthelsen@thecoffeeoasis.com // 360.602.1782 \n  \nJoin Zoom Meeting >\nMeeting ID: 865 8645 9623\nPasscode: 1u1bEF
URL:https://thecoffeeoasis.com/event/host-home-info-session-virtual-2021-11-18/
LOCATION:Online – Zoom\, WA\, United States
CATEGORIES:All Events,Community Events,Host Home Q&A Info Sessions,Informational Events,Opportunities to Get Involved
ATTACH;FMTTYPE=image/png:https://thecoffeeoasis.com/wp-content/uploads/2021/10/Host-Homes-Info-Event-FB-Cover-2021_v5.png
END:VEVENT
BEGIN:VEVENT
DTSTART;TZID=America/Los_Angeles:20211110T180000
DTEND;TZID=America/Los_Angeles:20211110T193000
DTSTAMP:20230820T132703
CREATED:20211027T183339Z
LAST-MODIFIED:20211130T193326Z
UID:10000088-1636567200-1636572600@thecoffeeoasis.com
SUMMARY:Host Home Info Session
DESCRIPTION:Join Host Homes Supervisor\, Jenny Berthelsen\, at our Burwell Café for an evening of Q&A and information about The Coffee Oasis Host Home Program! \n  \nYouth are in need of a safe home.\nYou can welcome a youth into your home by becoming a Host Home.\nAs a Host Home\, you can offer youth life-altering stability\, support\, and hope. The Coffee Oasis will guide you through the whole process\, provide training\, and carefully match you with a youth who is in need. \n  \nQuestions? Contact The Coffee Oasis Host Homes Supervisor:\nJenny Berthelsen // jenny.berthelsen@thecoffeeoasis.com // 360.602.1782 \n 
URL:https://thecoffeeoasis.com/event/host-homes-info-session-2021-11-10/
LOCATION:The Coffee Oasis Burwell Café & Roastery\, 822 Burwell St\, Bremerton\, WA\, 98337\, United States
CATEGORIES:All Events,Community Events,Host Home Q&A Info Sessions,Informational Events,Opportunities to Get Involved
ATTACH;FMTTYPE=image/png:https://thecoffeeoasis.com/wp-content/uploads/2021/10/Host-Homes-Info-Event-FB-Cover-2021_v5.png
END:VEVENT
BEGIN:VEVENT
DTSTART;TZID=America/Los_Angeles:20211028T180000
DTEND;TZID=America/Los_Angeles:20211028T193000
DTSTAMP:20230820T132703
CREATED:20211027T181639Z
LAST-MODIFIED:20211130T193308Z
UID:10000087-1635444000-1635449400@thecoffeeoasis.com
SUMMARY:Host Home Info Session - Virtual
DESCRIPTION:Join Host Homes Supervisor\, Jenny Berthelsen\, over zoom for an evening of Q&A and information about The Coffee Oasis Host Home Program! \n  \nYouth are in need of a safe home.\nYou can welcome a youth into your home by becoming a Host Home.\nAs a Host Home\, you can offer youth life-altering stability\, support\, and hope. The Coffee Oasis will guide you through the whole process\, provide training\, and carefully match you with a youth who is in need.
URL:https://thecoffeeoasis.com/event/host-home-info-session-virtual-2021-10-28/
LOCATION:Online – Zoom\, WA\, United States
CATEGORIES:All Events,Community Events,Host Home Q&A Info Sessions,Informational Events,Opportunities to Get Involved
ATTACH;FMTTYPE=image/png:https://thecoffeeoasis.com/wp-content/uploads/2021/10/Host-Homes-Info-Event-FB-Cover-2021_v5.png
END:VEVENT
END:VCALENDAR