BEGIN:VCALENDAR
VERSION:2.0
PRODID:-//The Coffee Oasis - ECPv6.1.1//NONSGML v1.0//EN
CALSCALE:GREGORIAN
METHOD:PUBLISH
X-WR-CALNAME:The Coffee Oasis
X-ORIGINAL-URL:https://thecoffeeoasis.com
X-WR-CALDESC:Events for The Coffee Oasis
REFRESH-INTERVAL;VALUE=DURATION:PT1H
X-Robots-Tag:noindex
X-PUBLISHED-TTL:PT1H
BEGIN:VTIMEZONE
TZID:America/Los_Angeles
BEGIN:DAYLIGHT
TZOFFSETFROM:-0800
TZOFFSETTO:-0700
TZNAME:PDT
DTSTART:20210314T100000
END:DAYLIGHT
BEGIN:STANDARD
TZOFFSETFROM:-0700
TZOFFSETTO:-0800
TZNAME:PST
DTSTART:20211107T090000
END:STANDARD
BEGIN:DAYLIGHT
TZOFFSETFROM:-0800
TZOFFSETTO:-0700
TZNAME:PDT
DTSTART:20220313T100000
END:DAYLIGHT
BEGIN:STANDARD
TZOFFSETFROM:-0700
TZOFFSETTO:-0800
TZNAME:PST
DTSTART:20221106T090000
END:STANDARD
END:VTIMEZONE
BEGIN:VEVENT
DTSTART;TZID=America/Los_Angeles:20221223T180000
DTEND;TZID=America/Los_Angeles:20221223T210000
DTSTAMP:20230820T132553
CREATED:20220829T223229Z
LAST-MODIFIED:20220829T223918Z
UID:10000154-1671818400-1671829200@thecoffeeoasis.com
SUMMARY:Christmas Party
DESCRIPTION:Join us for a FREE Christmas dinner\, games\, caroling\, and gifts (for ages 13-25)! Bring your friends and family! \nSign up for gifts at your local drop-in center by December 9. \nWho can sign up to receive gifts?\nYouth and young adults (ages 13-25) participating in The Coffee Oasis programs in Kitsap County can fill out a gift request form at their local Drop-In Center by December 9\, 2022. \nDate: Friday\, December 23\, 2022\nTime: 6-9pm\nLocation: The Coffee Oasis Port Orchard Drop-In Center\, 807A Bay St\, Port Orchard\, WA (up the stairs in the back) \n\nQuestions? Contact Jacob Wischoff\, Port Orchard Youth Program Manager:\njacob.wischoff@thecoffeeoasis.com\n360.602.0408
URL:https://thecoffeeoasis.com/event/2022-christmas-party-port-orchard/
LOCATION:The Coffee Oasis Port Orchard Drop-In Center\, 807A Bay St\, Port Orchard\, WA\, 98366\, United States
CATEGORIES:All Events,Events for All Those Ages 13-25,Party
ATTACH;FMTTYPE=image/png:https://thecoffeeoasis.com/wp-content/uploads/2022/08/Event-Hero_Christmas-Party_2022_1200x628_v2.png
ORGANIZER;CN="Jacob%20Wischoff%2C%20Port%20Orchard%20Youth%20Program%20Manager":MAILTO:jacob.wischoff@thecoffeeoasis.com
END:VEVENT
BEGIN:VEVENT
DTSTART;TZID=America/Los_Angeles:20221118T180000
DTEND;TZID=America/Los_Angeles:20221118T210000
DTSTAMP:20230820T132553
CREATED:20220829T215924Z
LAST-MODIFIED:20220829T215924Z
UID:10000149-1668794400-1668805200@thecoffeeoasis.com
SUMMARY:Night of Thankfulness
DESCRIPTION:Join us for a FREE DINNER (for ages 13-25)!\n\n\nDate: Friday\, November 18\, 2022\nTime: 6-9pm\nLocation: The Coffee Oasis Port Orchard Drop-In Center\, 807A Bay St\, Port Orchard\, WA (up the stairs in the back) \n\nQuestions? Contact Jacob Wischoff\, Port Orchard Youth Program Manager:\njacob.wischoff@thecoffeeoasis.com\n360.602.0408
URL:https://thecoffeeoasis.com/event/2022-night-of-thankfulness-port-orchard/
LOCATION:The Coffee Oasis Port Orchard Drop-In Center\, 807A Bay St\, Port Orchard\, WA\, 98366\, United States
CATEGORIES:All Events,Events for All Those Ages 13-25,Party
ATTACH;FMTTYPE=image/png:https://thecoffeeoasis.com/wp-content/uploads/2022/08/Event_Night-of-Thankfulness_2022_1200x628.png
ORGANIZER;CN="Jacob%20Wischoff%2C%20Port%20Orchard%20Youth%20Program%20Manager":MAILTO:jacob.wischoff@thecoffeeoasis.com
END:VEVENT
BEGIN:VEVENT
DTSTART;TZID=America/Los_Angeles:20221028T180000
DTEND;TZID=America/Los_Angeles:20221028T210000
DTSTAMP:20230820T132553
CREATED:20220823T000640Z
LAST-MODIFIED:20220829T215617Z
UID:10000146-1666980000-1666990800@thecoffeeoasis.com
SUMMARY:Hit the Hay Fall Festival
DESCRIPTION:Join us for food\, games\, festivities\, and tons of candy (for ages 13-25)! ALL FREE! \nDate: Friday\, October 28\, 2022\nTime: 6-9pm\nLocation: The Coffee Oasis Port Orchard Drop-In Center\, 807A Bay St\, Port Orchard\, WA (up the stairs in the back) \n\n\nQuestions? Contact Jacob Wischoff\, Port Orchard Youth Program Manager:\njacob.wischoff@thecoffeeoasis.com\n360.602.0408
URL:https://thecoffeeoasis.com/event/2022-hit-the-hay-fall-festival-port-orchard/
LOCATION:The Coffee Oasis Port Orchard Drop-In Center\, 807A Bay St\, Port Orchard\, WA\, 98366\, United States
CATEGORIES:All Events,Events for All Those Ages 13-25,Party
ATTACH;FMTTYPE=image/png:https://thecoffeeoasis.com/wp-content/uploads/2022/08/Event_Hit-the-Hay_2022_1200x628-1.png
ORGANIZER;CN="Jacob%20Wischoff%2C%20Port%20Orchard%20Youth%20Program%20Manager":MAILTO:jacob.wischoff@thecoffeeoasis.com
END:VEVENT
BEGIN:VEVENT
DTSTART;TZID=America/Los_Angeles:20220817T140000
DTEND;TZID=America/Los_Angeles:20220817T170000
DTSTAMP:20230820T132553
CREATED:20220131T203905Z
LAST-MODIFIED:20220816T225400Z
UID:10000117-1660744800-1660755600@thecoffeeoasis.com
SUMMARY:Back to School Bash
DESCRIPTION:Back to School Bash\nWednesday\, August 17th from 2-5pm students 13-25 years old are invited to come to our Drop-In Centers to enjoy FREE food\, games\, prizes\, and school supplies!  \nHow can students receive personalized FREE school supplies?\nYouth and young adults ages 13-25 can fill out a school supply request form at one of our Drop-In Centers. Then they can pick up their supplies during the Bash on August 17th from 2-5pm at their local Drop-In Center. \nWho can come to get school supplies? \n\nAll those 13-25 years old participating in The Coffee Oasis youth programs\nParents CANNOT pick up items for their child; the youth has to come in person\nYouth CANNOT take items for younger siblings\n\nNote: This is specifically for youth in our age range and programs. That is why we ask that they be 13-25 and come in-person to get supplies. There are other school supply events in the school district for younger ages. \n  \nThank you to our 2022 Back to School Bash Sponsor:
URL:https://thecoffeeoasis.com/event/back-to-school-bash-2022-port-orchard/
LOCATION:The Coffee Oasis Port Orchard Drop-In Center\, 807A Bay St\, Port Orchard\, WA\, 98366\, United States
CATEGORIES:Events for All Those Ages 13-25
ATTACH;FMTTYPE=image/png:https://thecoffeeoasis.com/wp-content/uploads/2022/01/B2SB_Event-Image_FB.png
ORGANIZER;CN="Jacob%20Wischoff%2C%20Port%20Orchard%20Youth%20Program%20Manager":MAILTO:jacob.wischoff@thecoffeeoasis.com
END:VEVENT
BEGIN:VEVENT
DTSTART;TZID=America/Los_Angeles:20220520T180000
DTEND;TZID=America/Los_Angeles:20220520T203000
DTSTAMP:20230820T132553
CREATED:20220131T200107Z
LAST-MODIFIED:20220427T163242Z
UID:10000113-1653069600-1653078600@thecoffeeoasis.com
SUMMARY:Celebration of Youth Achievement - Port Orchard
DESCRIPTION:Celebration of Youth Achievement\nLet’s celebrate the achievements youth made through The Coffee Oasis Port Orchard programs in 2021 -2022! Join us for coffee\, dinner\, and a celebration ceremony as achievement certificates are awarded to each youth. \nWho is invited?\nYouth and young adults participating in The Coffee Oasis Youth Programs\, their parents\, and school/career mentors who helped them reach their goals. \nYour presence will be a great encouragement to our youth. We hope you can come! \nMark you calendars: May 20\, 2022 at 6pm\nLocation:\nAdventure of Faith Church\n4705 Jackson Ave SE\nPort Orchard\, WA 98366
URL:https://thecoffeeoasis.com/event/celebration-of-achievement-2022-port-orchard/
LOCATION:Adventure of Faith Church\, 4705 Jackson Ave SE\, Port Orchard\, 98366
CATEGORIES:Events for All Those Ages 13-25,Party
ATTACH;FMTTYPE=image/jpeg:https://thecoffeeoasis.com/wp-content/uploads/2022/01/Celebration-Achievemet_Event-Hero_1200x628_web.jpg
ORGANIZER;CN="Jacob%20Wischoff%2C%20Port%20Orchard%20Youth%20Program%20Manager":MAILTO:jacob.wischoff@thecoffeeoasis.com
END:VEVENT
BEGIN:VEVENT
DTSTART;TZID=America/Los_Angeles:20211217T180000
DTEND;TZID=America/Los_Angeles:20211217T210000
DTSTAMP:20230820T132553
CREATED:20211027T204918Z
LAST-MODIFIED:20211027T204918Z
UID:10000095-1639764000-1639774800@thecoffeeoasis.com
SUMMARY:Christmas Party - Port Orchard
DESCRIPTION:All those 13-25 years old are invited to The Coffee Oasis Drop-In Centers for a Christmas dinner\, games\, caroling\, and gifts! All FREE! \nBring your friends and family! \nSign up for gifts at your local youth drop-in center by December 10.
URL:https://thecoffeeoasis.com/event/christmas-party-port-orchard-2021/
LOCATION:The Coffee Oasis Port Orchard Drop-In Center\, 807A Bay St\, Port Orchard\, WA\, 98366\, United States
CATEGORIES:All Events,Celebration,Community Events,Events for All Those Ages 13-25,Party
ATTACH;FMTTYPE=image/png:https://thecoffeeoasis.com/wp-content/uploads/2021/10/FB-Event-Cover_Christmas-Party_2021.png
END:VEVENT
BEGIN:VEVENT
DTSTART;TZID=America/Los_Angeles:20211119T180000
DTEND;TZID=America/Los_Angeles:20211119T210000
DTSTAMP:20230820T132553
CREATED:20211027T203108Z
LAST-MODIFIED:20211027T203901Z
UID:10000092-1637344800-1637355600@thecoffeeoasis.com
SUMMARY:Night of Thankfulness - Port Orchard
DESCRIPTION:All those 13-25 years old are invited to The Coffee Oasis Drop-In Centers for a FREE community meal!
URL:https://thecoffeeoasis.com/event/night-of-thankfulness-port-orchard-2021/
LOCATION:The Coffee Oasis Port Orchard Drop-In Center\, 807A Bay St\, Port Orchard\, WA\, 98366\, United States
CATEGORIES:All Events,Celebration,Community Events,Events for All Those Ages 13-25,Party
ATTACH;FMTTYPE=image/png:https://thecoffeeoasis.com/wp-content/uploads/2021/10/FB_Cover_Night-Thankfulness_2021.png
END:VEVENT
END:VCALENDAR