BEGIN:VCALENDAR
VERSION:2.0
PRODID:-//The Coffee Oasis - ECPv6.1.1//NONSGML v1.0//EN
CALSCALE:GREGORIAN
METHOD:PUBLISH
X-ORIGINAL-URL:https://thecoffeeoasis.com
X-WR-CALDESC:Events for The Coffee Oasis
REFRESH-INTERVAL;VALUE=DURATION:PT1H
X-Robots-Tag:noindex
X-PUBLISHED-TTL:PT1H
BEGIN:VTIMEZONE
TZID:America/Los_Angeles
BEGIN:DAYLIGHT
TZOFFSETFROM:-0800
TZOFFSETTO:-0700
TZNAME:PDT
DTSTART:20220313T100000
END:DAYLIGHT
BEGIN:STANDARD
TZOFFSETFROM:-0700
TZOFFSETTO:-0800
TZNAME:PST
DTSTART:20221106T090000
END:STANDARD
END:VTIMEZONE
BEGIN:VEVENT
DTSTART;TZID=America/Los_Angeles:20221015T173000
DTEND;TZID=America/Los_Angeles:20221015T200000
DTSTAMP:20230820T132524
CREATED:20220405T001350Z
LAST-MODIFIED:20220624T182532Z
UID:10000126-1665855000-1665864000@thecoffeeoasis.com
SUMMARY:Hope Gala
DESCRIPTION:Save the date for The Coffee Oasis 9th Annual Hope Gala! \nSaturday\, October 15 at 5:30pm\nFEATURING\n– Incredible Youth Stories\n– Silent Auction\n– Raise the Paddle\n– Dinner\n– Live Auction\n– Dessert Dash \nLOCATION\nKitsap Golf and Country Club\n3885 NW Golf Club Hill Rd\, Bremerton\, WA 98312 \n  \nHundreds of youth in Kitsap County are experiencing homelessness.  Many of these youth battle depression\, isolation\, addiction\, and trauma. Often battling to survive just for the day. They do not have the loving support of a community or family. They do not have a safe refuge to return to at night. They do not have hope for tomorrow because they are battling to survive just for the day. \nBut you can offer them hope\, safety\, healing\, and a home through The Coffee Oasis youth programs. You can offer them a safe and encouraging place to live while they work towards sustainable housing and employment. You can offer youth healing from trauma and freedom from addiction. You can offer them community. You can offer them the tools and resources they need to thrive. \nYou can help provide shelter and resources to youth in Kitsap County by participating in The Coffee Oasis 9th Annual Hope Gala. Whether you bid on an auction item or raise your paddle to give\, you will be providing shelter and resources for youth in Kitsap County. You will offer youth a place to find rest\, safety\, and hope for the future. \nOnline Event Details > \nSPONSORSHIP\nInterested in sponsoring the 2022 Hope Gala? Contact The Coffee Oasis Kitsap Community Development Lead\, Cody Clark: cody.clark@thecoffeeoasis.com.\nSponsor Donation Form >
URL:https://thecoffeeoasis.com/event/2022-hope-gala/
LOCATION:Kitsap Golf and Country Club\, 3885 NW Golf Club Hill Rd\, Bremerton\, WA\, 98312\, United States
CATEGORIES:All Events,Auctions,Celebration,Community Events,Fundraisers
ATTACH;FMTTYPE=image/jpeg:https://thecoffeeoasis.com/wp-content/uploads/2022/04/Event-Hero_1200x628.jpg
END:VEVENT
BEGIN:VEVENT
DTSTART;TZID=America/Los_Angeles:20221005T173000
DTEND;TZID=America/Los_Angeles:20221005T200000
DTSTAMP:20230820T132524
CREATED:20220322T152739Z
LAST-MODIFIED:20220908T193208Z
UID:10000122-1664991000-1665000000@thecoffeeoasis.com
SUMMARY:2022 Coffee & Corks\, an evening of hope
DESCRIPTION:Save the date for our 5th annual fundraiser for the Tacoma Youth Shelter: Coffee & Corks\, an evening of hope! \nWednesday\, October 5 at 5:30pm\nFEATURING\n– Incredible Youth Stories\n– Silent Auction\n– Raise the Paddle\n– Dinner\n– Live Auction\n– Dessert Dash \nLOCATION\nHistoric 1625 Tacoma Place\n1625 S Tacoma Way\, Tacoma\, WA 98409 \nHundreds of youth in Pierce County are living on the streets\, couch surfing or living in temporary shelter. Many of these youth battle depression\, isolation\, addiction\, and trauma. They need safe\, reliable\, and compassionate care. \nIn August of 2019\, The Coffee Oasis opened the first 24/7 emergency underage youth shelter in Pierce County! The Coffee Oasis Tacoma Shelter offers youth 13-17 years old a safe and encouraging place to live while they work towards sustainable housing and employment. Yet The Coffee Oasis needs your help to continue to provide shelter and resources for youth in Pierce County. \nYou can help provide shelter to youth in Pierce County by participating in the 2022 Coffee & Corks event. Whether you bid on an auction item or raise your paddle to give\, you will be providing shelter and resources for youth in Pierce County. You will offer youth a place to find rest\, safety\, and hope for the future. \n  \nSPONSORSHIP\nInterested in sponsoring Coffee & Corks\, an evening of hope? Contact The Coffee Oasis Pierce Community Development Manager\, Elizabeth Hoey: elizabeth.hoey@thecoffeeoasis.com.
URL:https://thecoffeeoasis.com/event/2022-coffee-corks-an-evening-of-hope/
LOCATION:Historic 1625 Tacoma Place\, 1625 S Tacoma Way\, Tacoma\, WA\, 98409\, United States
CATEGORIES:All Events,Auctions,Community Events,Fundraisers
ATTACH;FMTTYPE=image/jpeg:https://thecoffeeoasis.com/wp-content/uploads/2022/03/Coffee-Corks-Event-Hero-2022_1200x628_Greater-Giving-1.jpg
END:VEVENT
BEGIN:VEVENT
DTSTART;TZID=America/Los_Angeles:20220717T160000
DTEND;TZID=America/Los_Angeles:20220717T190000
DTSTAMP:20230820T132524
CREATED:20220323T201655Z
LAST-MODIFIED:20220711T183016Z
UID:10000124-1658073600-1658084400@thecoffeeoasis.com
SUMMARY:25 Years of Hope BBQ
DESCRIPTION:25 Years of Hope BBQ\n\nJoin us for a FREE community BBQ celebrating The Coffee Oasis’ 25th Anniversary! \nBring your friends and family out for some tasty and FREE Smoked BBQ\, sweet treats\, and family-friendly fun at the Burwell Café! Our Burwell Café will be open and you can get 25% off everything! Plus\, we’ll have special limited edition 25th anniversary swag and giveaways. You won’t want to miss this FREE fun family summer BBQ: 25 Years of Hope! \n4-7pm Sunday\, July 17\nFEATURING \n\nFREE BBQ\, Popcorn\, Snow Cones\, and Cotton Candy\nYouth Stories\nExecutive Director Address\nSpecial Limited Edition 25th Anniversary Swag and Giveaways\n25% Off Everything at The Coffee Oasis\n\nLOCATION\nThe Coffee Oasis Burwell Café & Roastery\n822 Burwell St\, Bremerton\, WA 98337
URL:https://thecoffeeoasis.com/event/25yearsofhope/
LOCATION:The Coffee Oasis Burwell Café & Roastery\, 822 Burwell St\, Bremerton\, WA\, 98337\, United States
CATEGORIES:All Events,Celebration,Community Events
ATTACH;FMTTYPE=image/jpeg:https://thecoffeeoasis.com/wp-content/uploads/2022/03/25-Years-Hope_Event-Hero_1200x628_web.jpg
ORGANIZER;CN="Bryce%20Clark%2C%20Director%20of%20Community%20Development":MAILTO:bryce.clark@thecoffeeoasis.com
END:VEVENT
END:VCALENDAR