BEGIN:VCALENDAR
VERSION:2.0
PRODID:-//The Coffee Oasis - ECPv6.1.1//NONSGML v1.0//EN
CALSCALE:GREGORIAN
METHOD:PUBLISH
X-WR-CALNAME:The Coffee Oasis
X-ORIGINAL-URL:https://thecoffeeoasis.com
X-WR-CALDESC:Events for The Coffee Oasis
REFRESH-INTERVAL;VALUE=DURATION:PT1H
X-Robots-Tag:noindex
X-PUBLISHED-TTL:PT1H
BEGIN:VTIMEZONE
TZID:America/Los_Angeles
BEGIN:DAYLIGHT
TZOFFSETFROM:-0800
TZOFFSETTO:-0700
TZNAME:PDT
DTSTART:20230312T100000
END:DAYLIGHT
BEGIN:STANDARD
TZOFFSETFROM:-0700
TZOFFSETTO:-0800
TZNAME:PST
DTSTART:20231105T090000
END:STANDARD
END:VTIMEZONE
BEGIN:VEVENT
DTSTART;TZID=America/Los_Angeles:20230915T173000
DTEND;TZID=America/Los_Angeles:20230915T200000
DTSTAMP:20230820T142024
CREATED:20230208T172101Z
LAST-MODIFIED:20230627T000349Z
UID:10000156-1694799000-1694808000@thecoffeeoasis.com
SUMMARY:10th Annual Hope Gala
DESCRIPTION:The Coffee Oasis 10th Annual Hope Gala will be held on September 15\, 2023 at the Kitsap Conference Center at Bremerton Harborside. Join us for a hope filled evening hearing incredible youth stories. Bid to give during our exciting auction and dessert dash—all to give shelter and resources for youth in Kitsap County! \nDate & Time: Friday\, September 15 at 5:30pm \nLocation: Kitsap Conference Center at Bremerton Harborside\n100 Washington Ave\, Bremerton\, WA 98337 \nFeaturing:  \n\nIncredible Youth Stories\n\nCocktail Hour\nRaffle\nDinner\nLive Auction\nRaise the Paddle\nDessert Dash\n\nBuy Tickets \n  \nHundreds of youth in Kitsap County are experiencing homelessness.  Many of these youth battle depression\, isolation\, addiction\, and trauma. Often battling to survive just for the day. They do not have the loving support of a community or family. They do not have a safe refuge to return to at night. They do not have hope for tomorrow because they are fighting to survive just for the day. \nBut you can offer them hope\, safety\, healing\, and a home through The Coffee Oasis youth programs. You can offer them a safe and encouraging place to live while they work towards sustainable housing and employment. You can offer youth healing from trauma and freedom from addiction. You can offer them community. You can offer them the tools and resources they need to thrive. \nYou can help provide shelter and resources to youth in Kitsap County by participating in The Coffee Oasis 10th Annual Hope Gala. Whether you bid on an auction item or raise your paddle to give\, you will be providing shelter and resources for youth in Kitsap County. You will offer youth a place to find rest\, safety\, and hope for the future. \n  \nInterested in sponsoring the 2023 event? \nSponsorship Contact:\nCody Clark\nKitsap Community Development Manager\ncody.clark@thecoffeeoasis.com\nMobile (360) 649-0486 \nSponsorship Donation Form
URL:https://thecoffeeoasis.com/event/2023-hope-gala/
LOCATION:Kitsap Conference Center at Bremerton Harborside\, 100 Washington Ave\, Bremerton\, WA\, 98337
CATEGORIES:All Events,Auctions,Celebration,Community Events,Fundraisers
ATTACH;FMTTYPE=image/jpeg:https://thecoffeeoasis.com/wp-content/uploads/2023/02/Hope-Gala_Hero_2023_v2_1200x628.jpg
ORGANIZER;CN="Cody%20Clark%2C%20Kitsap%20Community%20Development%20Manager":MAILTO:cody.clark@thecoffeeoasis.com
END:VEVENT
BEGIN:VEVENT
DTSTART;TZID=America/Los_Angeles:20231004T173000
DTEND;TZID=America/Los_Angeles:20231004T200000
DTSTAMP:20230820T142024
CREATED:20230207T004631Z
LAST-MODIFIED:20230711T174159Z
UID:10000155-1696440600-1696449600@thecoffeeoasis.com
SUMMARY:Coffee & Corks\, an evening of hope
DESCRIPTION:The Coffee Oasis 6th Annual Fundraiser for the Tacoma Youth Shelter: Coffee & Corks\, an evening of hope. Join us for a hope filled evening hearing incredible youth stories. Bid to give during our exciting auction and dessert dash—all to give youth shelter in Tacoma! \nDate & Time: Wednesday\, October 4 at 5:30pm \nLocation: Historic 1625 Tacoma Place\n1625 S Tacoma Way\, Tacoma\, WA 98409 \nFeaturing:  \n\nIncredible Youth Stories\n\nCocktail Hour\nRaffle\nDinner\nLive Auction\nRaise the Paddle\nDessert Dash\n\nBuy Tickets \n  \nHundreds of youth in Pierce County are experiencing homelessness. Many of these youth battle depression\, isolation\, addiction\, and trauma. They do not have the loving support of a community or family. They do not have a safe refuge to return to at night. They do not have hope for tomorrow because they are fighting to survive just for the day. \nBut you can offer them hope\, safety\, healing\, and a home through The Coffee Oasis youth programs. You can offer them a safe and encouraging place to live while they work towards sustainable housing and employment. You can offer youth healing from trauma and freedom from addiction. You can offer them community. You can offer them the tools and resources they need to thrive. \nIn August of 2019\, The Coffee Oasis opened the first 24/7 emergency underage youth shelter in Pierce County! The Coffee Oasis Tacoma shelter offers youth ages 13-17 a safe and encouraging place to live while they work towards sustainable housing and employment. Yet The Coffee Oasis needs your help to continue to provide shelter and resources for youth in Pierce County.  \nYou can help provide shelter for youth in Pierce County by participating in the 2023 Coffee & Corks event.  Whether you bid on an auction item or raise your paddle to give\, you will be providing shelter and resources for youth in Pierce County. You will offer youth a place to find rest\, safety\, and hope for the future. \nInterested in sponsoring the 2023 event? \nSponsorship Contact:\nElizabeth Hoey\nPierce County Community Development Manager\nelizabeth.hoey@thecoffeeoasis.com\nMobile (253) 353-2045 \nSponsorship Donation Form
URL:https://thecoffeeoasis.com/event/2023-coffee-corks-an-evening-of-hope/
LOCATION:Historic 1625 Tacoma Place\, 1625 S Tacoma Way\, Tacoma\, WA\, 98409\, United States
CATEGORIES:All Events,Auctions,Community Events,Fundraisers
ATTACH;FMTTYPE=image/jpeg:https://thecoffeeoasis.com/wp-content/uploads/2023/02/Coffee-Corks_Hero_2023_v2_1200x628.jpg
END:VEVENT
END:VCALENDAR