BEGIN:VCALENDAR
VERSION:2.0
PRODID:-//The Coffee Oasis - ECPv6.15.20//NONSGML v1.0//EN
CALSCALE:GREGORIAN
METHOD:PUBLISH
X-WR-CALNAME:The Coffee Oasis
X-ORIGINAL-URL:https://thecoffeeoasis.com
X-WR-CALDESC:Events for The Coffee Oasis
REFRESH-INTERVAL;VALUE=DURATION:PT1H
X-Robots-Tag:noindex
X-PUBLISHED-TTL:PT1H
BEGIN:VTIMEZONE
TZID:America/Los_Angeles
BEGIN:DAYLIGHT
TZOFFSETFROM:-0800
TZOFFSETTO:-0700
TZNAME:PDT
DTSTART:20240310T100000
END:DAYLIGHT
BEGIN:STANDARD
TZOFFSETFROM:-0700
TZOFFSETTO:-0800
TZNAME:PST
DTSTART:20241103T090000
END:STANDARD
BEGIN:DAYLIGHT
TZOFFSETFROM:-0800
TZOFFSETTO:-0700
TZNAME:PDT
DTSTART:20250309T100000
END:DAYLIGHT
BEGIN:STANDARD
TZOFFSETFROM:-0700
TZOFFSETTO:-0800
TZNAME:PST
DTSTART:20251102T090000
END:STANDARD
BEGIN:DAYLIGHT
TZOFFSETFROM:-0800
TZOFFSETTO:-0700
TZNAME:PDT
DTSTART:20260308T100000
END:DAYLIGHT
BEGIN:STANDARD
TZOFFSETFROM:-0700
TZOFFSETTO:-0800
TZNAME:PST
DTSTART:20261101T090000
END:STANDARD
END:VTIMEZONE
BEGIN:VEVENT
DTSTART;TZID=America/Los_Angeles:20250607T100000
DTEND;TZID=America/Los_Angeles:20250607T120000
DTSTAMP:20260421T090457
CREATED:20250529T173849Z
LAST-MODIFIED:20250529T174407Z
UID:28821-1749290400-1749297600@thecoffeeoasis.com
SUMMARY:Volunteer Orientation
DESCRIPTION:Donate your time\, skills\, and expertise!\nThis 2-hour volunteer orientation is a laid-back café meeting with our Volunteer Coordinator and a youth program staff member\, that allows you to ask questions and hear about opportunities working with youth or indirectly by helping staff. \nThere are endless ways to volunteer at The Coffee Oasis if you want to make an impact in the lives of at-risk and homeless youth.\n+ Community Advocate+ Drop-In Center Volunteer+ Street Outreach+ Youth Mentor+Office and Maintenance Help & More\n\nJoin us for our next Volunteer Orientation at our Dave Frederick Administration Building 10 am -noon in Bremerton to learn more.\n\nRSVP info: Contact Julia Heberling\, Kitsap Volunteer Coordinator>> julia.heberling@thecoffeeoasis.com
URL:https://thecoffeeoasis.com/event/volunteer-orientation-kitsap/
LOCATION:The Coffee Oasis – Dave Frederick Administration Building\, 837 4th Street\, Bremerton\, WA\, 98337\, United States
CATEGORIES:All Events,Community Events,Opportunities to Get Involved,Volunteer Orientation
ATTACH;FMTTYPE=image/jpeg:https://thecoffeeoasis.com/wp-content/uploads/2024/01/IMG_6235-scaled.jpg
ORGANIZER;CN="Julia Heberling%2C Kitsap Volunteer Coordinator":MAILTO:julia.heberling@thecoffeeoasis.com
END:VEVENT
END:VCALENDAR