BEGIN:VCALENDAR
VERSION:2.0
PRODID:-//The Coffee Oasis - ECPv6.15.20//NONSGML v1.0//EN
CALSCALE:GREGORIAN
METHOD:PUBLISH
X-ORIGINAL-URL:https://thecoffeeoasis.com
X-WR-CALDESC:Events for The Coffee Oasis
REFRESH-INTERVAL;VALUE=DURATION:PT1H
X-Robots-Tag:noindex
X-PUBLISHED-TTL:PT1H
BEGIN:VTIMEZONE
TZID:America/Los_Angeles
BEGIN:DAYLIGHT
TZOFFSETFROM:-0800
TZOFFSETTO:-0700
TZNAME:PDT
DTSTART:20230312T100000
END:DAYLIGHT
BEGIN:STANDARD
TZOFFSETFROM:-0700
TZOFFSETTO:-0800
TZNAME:PST
DTSTART:20231105T090000
END:STANDARD
BEGIN:DAYLIGHT
TZOFFSETFROM:-0800
TZOFFSETTO:-0700
TZNAME:PDT
DTSTART:20240310T100000
END:DAYLIGHT
BEGIN:STANDARD
TZOFFSETFROM:-0700
TZOFFSETTO:-0800
TZNAME:PST
DTSTART:20241103T090000
END:STANDARD
BEGIN:DAYLIGHT
TZOFFSETFROM:-0800
TZOFFSETTO:-0700
TZNAME:PDT
DTSTART:20250309T100000
END:DAYLIGHT
BEGIN:STANDARD
TZOFFSETFROM:-0700
TZOFFSETTO:-0800
TZNAME:PST
DTSTART:20251102T090000
END:STANDARD
END:VTIMEZONE
BEGIN:VEVENT
DTSTART;VALUE=DATE:20240415
DTEND;VALUE=DATE:20240507
DTSTAMP:20260421T064855
CREATED:20240403T164604Z
LAST-MODIFIED:20240403T170218Z
UID:27675-1713139200-1715039999@thecoffeeoasis.com
SUMMARY:Apex1 Tint & Car Detailing Fundraiser for The Coffee Oasis Youth Shelter
DESCRIPTION:Apex1 Tint & Car Detailing Fundraiser for The Coffee Oasis Youth Shelter\nBetween April 15 – May 6th\, 2024 Apex1 Tint & Car Detailing is donating 50% of their revenue to The Coffee Oasis Youth Shelter!\nCall (360) 550-5020 to book your appointment. \nAlex & Ian share why they chose to partner with The Coffee Oasis: \n“My brother and I were seniors at North Kitsap High School when a Coffee Oasis representative came to our classroom and shared valuable information regarding helping kids in need. Whether that be in providing shelter or helping with depression and anxiety. And since that day\, I’ve kept the Coffee Oasis message in mind. Recently\, I realized that my brother and I were in a position to give back to the community that has given so much to us our entire lives. We want to donate 50% of our revenue from April 15 – May 6th. This fundraiser with Coffee Oasis will go to helping the homeless teens get needed shelter. We hope to make a positive impact where The Coffee Oasis helps kids in need that are the same age as us.”
URL:https://thecoffeeoasis.com/event/apex1-tint-car-detailing-fundraiser-for-the-coffee-oasis-youth-shelter/
CATEGORIES:All Events,Community Events,Fundraisers
ATTACH;FMTTYPE=image/jpeg:https://thecoffeeoasis.com/wp-content/uploads/2024/04/Apex1-Tint-Car-Detailing-Fundraiser-for-The-Coffee-Oasis-Youth-Shelter-Event-Hero-Image.jpg
END:VEVENT
BEGIN:VEVENT
DTSTART;VALUE=DATE:20240416
DTEND;VALUE=DATE:20240417
DTSTAMP:20260421T064855
CREATED:20231227T190233Z
LAST-MODIFIED:20231227T190233Z
UID:27308-1713225600-1713311999@thecoffeeoasis.com
SUMMARY:Kitsap Great Give
DESCRIPTION:Did you know that you can give to The Coffee Oasis during the Kitsap Great Give on April 16th and have your donation BOOSTED by the Bonus Pool? \nMark your calendars for Tuesday\, April 16\, 2024!\nDonate online before 9am on April 16th to help give The Coffee Oasis a chance to win the $500 Quick Start Prize! \nView The Coffee Oasis organization profile on Kitsap Great Give to learn more!  \nView The Coffee Oasis Profile on Kitsap Great Give >\n 
URL:https://thecoffeeoasis.com/event/kitsap-great-give/
CATEGORIES:All Events,Community Events,Fundraisers
ATTACH;FMTTYPE=image/jpeg:https://thecoffeeoasis.com/wp-content/uploads/2023/12/Kitsap_Great_Give_2024_1200x628.jpg
END:VEVENT
END:VCALENDAR