BEGIN:VCALENDAR
VERSION:2.0
PRODID:-//The Coffee Oasis - ECPv6.1.1//NONSGML v1.0//EN
CALSCALE:GREGORIAN
METHOD:PUBLISH
X-WR-CALNAME:The Coffee Oasis
X-ORIGINAL-URL:https://thecoffeeoasis.com
X-WR-CALDESC:Events for The Coffee Oasis
REFRESH-INTERVAL;VALUE=DURATION:PT1H
X-Robots-Tag:noindex
X-PUBLISHED-TTL:PT1H
BEGIN:VTIMEZONE
TZID:America/Los_Angeles
BEGIN:DAYLIGHT
TZOFFSETFROM:-0800
TZOFFSETTO:-0700
TZNAME:PDT
DTSTART:20210314T100000
END:DAYLIGHT
BEGIN:STANDARD
TZOFFSETFROM:-0700
TZOFFSETTO:-0800
TZNAME:PST
DTSTART:20211107T090000
END:STANDARD
BEGIN:DAYLIGHT
TZOFFSETFROM:-0800
TZOFFSETTO:-0700
TZNAME:PDT
DTSTART:20220313T100000
END:DAYLIGHT
BEGIN:STANDARD
TZOFFSETFROM:-0700
TZOFFSETTO:-0800
TZNAME:PST
DTSTART:20221106T090000
END:STANDARD
BEGIN:DAYLIGHT
TZOFFSETFROM:-0800
TZOFFSETTO:-0700
TZNAME:PDT
DTSTART:20230312T100000
END:DAYLIGHT
BEGIN:STANDARD
TZOFFSETFROM:-0700
TZOFFSETTO:-0800
TZNAME:PST
DTSTART:20231105T090000
END:STANDARD
END:VTIMEZONE
BEGIN:VEVENT
DTSTART;TZID=America/Los_Angeles:20230520T080000
DTEND;TZID=America/Los_Angeles:20230520T160000
DTSTAMP:20230820T140539
CREATED:20230502T223551Z
LAST-MODIFIED:20230510T173523Z
UID:10000159-1684569600-1684598400@thecoffeeoasis.com
SUMMARY:Tacoma Café & Youth Center Grand Opening
DESCRIPTION:You are invited to the Grand Opening of The Coffee Oasis Tacoma Café and Youth Center on Saturday\, May 20\, 2023. Join us for a ribbon cutting ceremony\, Executive Director address\, and refreshments. Invite your friends to sample The Coffee Oasis Café food and drinks\, and learn about the mission! \n10AM: RIBBON CUTTING CEREMONY\n– Executive Director Address\n– Special Guest Speakers \n8AM – 4PM: REFRESHMENTS\n– Free Coffee & Food Samples\n– Open Coffee Bar \nSATURDAY\, MAY 20\, 2023\nLocation: 1424 Tacoma Ave S\, Tacoma\, WA 98402 \n  \n \nMission: Restoring communities through compassionate youth programs and coffee businesses.\nThousands of youth in Pierce County are hurting\, homeless\, and hindered from living their full potential. Many of these youth battle depression\, isolation\, addiction\, and trauma–often fighting to survive just for the day.\n\nIn August of 2019\, The Coffee Oasis opened the first underage youth shelter in Pierce County. Since then\, hundreds of youth have found safety\, healing\, and a home through The Coffee Oasis Youth Programs. Now\, we are excited to announce the Grand Opening of The Coffee Oasis Tacoma Café and Youth Center will be on May 20\, 2023. Invite your friends to sample The Coffee Oasis Café food and drinks\, and learn about the mission!
URL:https://thecoffeeoasis.com/event/tacoma-cafe-youth-center-grand-opening/
LOCATION:The Coffee Oasis Tacoma Cafe\, 1424 Tacoma Ave S\, Tacoma\, WA\, 98402\, United States
CATEGORIES:All Events,Celebration,Community Events
ATTACH;FMTTYPE=image/jpeg:https://thecoffeeoasis.com/wp-content/uploads/2023/05/Tacoma-Grand-Opening_Event_Featured-Image_1200x628px-e1683152315369.jpg
END:VEVENT
BEGIN:VEVENT
DTSTART;TZID=America/Los_Angeles:20221015T173000
DTEND;TZID=America/Los_Angeles:20221015T200000
DTSTAMP:20230820T140539
CREATED:20220405T001350Z
LAST-MODIFIED:20220624T182532Z
UID:10000126-1665855000-1665864000@thecoffeeoasis.com
SUMMARY:Hope Gala
DESCRIPTION:Save the date for The Coffee Oasis 9th Annual Hope Gala! \nSaturday\, October 15 at 5:30pm\nFEATURING\n– Incredible Youth Stories\n– Silent Auction\n– Raise the Paddle\n– Dinner\n– Live Auction\n– Dessert Dash \nLOCATION\nKitsap Golf and Country Club\n3885 NW Golf Club Hill Rd\, Bremerton\, WA 98312 \n  \nHundreds of youth in Kitsap County are experiencing homelessness.  Many of these youth battle depression\, isolation\, addiction\, and trauma. Often battling to survive just for the day. They do not have the loving support of a community or family. They do not have a safe refuge to return to at night. They do not have hope for tomorrow because they are battling to survive just for the day. \nBut you can offer them hope\, safety\, healing\, and a home through The Coffee Oasis youth programs. You can offer them a safe and encouraging place to live while they work towards sustainable housing and employment. You can offer youth healing from trauma and freedom from addiction. You can offer them community. You can offer them the tools and resources they need to thrive. \nYou can help provide shelter and resources to youth in Kitsap County by participating in The Coffee Oasis 9th Annual Hope Gala. Whether you bid on an auction item or raise your paddle to give\, you will be providing shelter and resources for youth in Kitsap County. You will offer youth a place to find rest\, safety\, and hope for the future. \nOnline Event Details > \nSPONSORSHIP\nInterested in sponsoring the 2022 Hope Gala? Contact The Coffee Oasis Kitsap Community Development Lead\, Cody Clark: cody.clark@thecoffeeoasis.com.\nSponsor Donation Form >
URL:https://thecoffeeoasis.com/event/2022-hope-gala/
LOCATION:Kitsap Golf and Country Club\, 3885 NW Golf Club Hill Rd\, Bremerton\, WA\, 98312\, United States
CATEGORIES:All Events,Auctions,Celebration,Community Events,Fundraisers
ATTACH;FMTTYPE=image/jpeg:https://thecoffeeoasis.com/wp-content/uploads/2022/04/Event-Hero_1200x628.jpg
END:VEVENT
BEGIN:VEVENT
DTSTART;TZID=America/Los_Angeles:20220717T160000
DTEND;TZID=America/Los_Angeles:20220717T190000
DTSTAMP:20230820T140539
CREATED:20220323T201655Z
LAST-MODIFIED:20220711T183016Z
UID:10000124-1658073600-1658084400@thecoffeeoasis.com
SUMMARY:25 Years of Hope BBQ
DESCRIPTION:25 Years of Hope BBQ\n\nJoin us for a FREE community BBQ celebrating The Coffee Oasis’ 25th Anniversary! \nBring your friends and family out for some tasty and FREE Smoked BBQ\, sweet treats\, and family-friendly fun at the Burwell Café! Our Burwell Café will be open and you can get 25% off everything! Plus\, we’ll have special limited edition 25th anniversary swag and giveaways. You won’t want to miss this FREE fun family summer BBQ: 25 Years of Hope! \n4-7pm Sunday\, July 17\nFEATURING \n\nFREE BBQ\, Popcorn\, Snow Cones\, and Cotton Candy\nYouth Stories\nExecutive Director Address\nSpecial Limited Edition 25th Anniversary Swag and Giveaways\n25% Off Everything at The Coffee Oasis\n\nLOCATION\nThe Coffee Oasis Burwell Café & Roastery\n822 Burwell St\, Bremerton\, WA 98337
URL:https://thecoffeeoasis.com/event/25yearsofhope/
LOCATION:The Coffee Oasis Burwell Café & Roastery\, 822 Burwell St\, Bremerton\, WA\, 98337\, United States
CATEGORIES:All Events,Celebration,Community Events
ATTACH;FMTTYPE=image/jpeg:https://thecoffeeoasis.com/wp-content/uploads/2022/03/25-Years-Hope_Event-Hero_1200x628_web.jpg
ORGANIZER;CN="Bryce%20Clark%2C%20Director%20of%20Community%20Development":MAILTO:bryce.clark@thecoffeeoasis.com
END:VEVENT
BEGIN:VEVENT
DTSTART;TZID=America/Los_Angeles:20211217T180000
DTEND;TZID=America/Los_Angeles:20211217T210000
DTSTAMP:20230820T140539
CREATED:20211027T205525Z
LAST-MODIFIED:20211027T205525Z
UID:10000097-1639764000-1639774800@thecoffeeoasis.com
SUMMARY:Christmas Party - Poulsbo
DESCRIPTION:All those 13-25 years old are invited to The Coffee Oasis Drop-In Centers for a Christmas dinner\, games\, caroling\, and gifts! All FREE! \nBring your friends and family! \nSign up for gifts at your local youth drop-in center by December 10.
URL:https://thecoffeeoasis.com/event/christmas-party-poulsbo-2021/
LOCATION:The Coffee Oasis Poulsbo Drop-In Center\, 780 NE Iverson St\, Poulsbo\, WA\, WA\, 98370\, United States
CATEGORIES:All Events,Celebration,Community Events,Events for All Those Ages 13-25,Party
ATTACH;FMTTYPE=image/png:https://thecoffeeoasis.com/wp-content/uploads/2021/10/FB-Event-Cover_Christmas-Party_2021.png
END:VEVENT
BEGIN:VEVENT
DTSTART;TZID=America/Los_Angeles:20211217T180000
DTEND;TZID=America/Los_Angeles:20211217T210000
DTSTAMP:20230820T140539
CREATED:20211027T205302Z
LAST-MODIFIED:20211027T205302Z
UID:10000096-1639764000-1639774800@thecoffeeoasis.com
SUMMARY:Christmas Party - Kingston
DESCRIPTION:All those 13-25 years old are invited to The Coffee Oasis Drop-In Centers for a Christmas dinner\, games\, caroling\, and gifts! All FREE! \nBring your friends and family! \nSign up for gifts at your local youth drop-in center by December 10.
URL:https://thecoffeeoasis.com/event/christmas-party-kingston-2021/
LOCATION:The Coffee Oasis Kingston Drop-In Center\, 11212 WA-104\, Kingston\, WA\, 98346\, United States
CATEGORIES:All Events,Celebration,Community Events,Events for All Those Ages 13-25,Party
ATTACH;FMTTYPE=image/png:https://thecoffeeoasis.com/wp-content/uploads/2021/10/FB-Event-Cover_Christmas-Party_2021.png
END:VEVENT
BEGIN:VEVENT
DTSTART;TZID=America/Los_Angeles:20211217T180000
DTEND;TZID=America/Los_Angeles:20211217T210000
DTSTAMP:20230820T140539
CREATED:20211027T204918Z
LAST-MODIFIED:20211027T204918Z
UID:10000095-1639764000-1639774800@thecoffeeoasis.com
SUMMARY:Christmas Party - Port Orchard
DESCRIPTION:All those 13-25 years old are invited to The Coffee Oasis Drop-In Centers for a Christmas dinner\, games\, caroling\, and gifts! All FREE! \nBring your friends and family! \nSign up for gifts at your local youth drop-in center by December 10.
URL:https://thecoffeeoasis.com/event/christmas-party-port-orchard-2021/
LOCATION:The Coffee Oasis Port Orchard Drop-In Center\, 807A Bay St\, Port Orchard\, WA\, 98366\, United States
CATEGORIES:All Events,Celebration,Community Events,Events for All Those Ages 13-25,Party
ATTACH;FMTTYPE=image/png:https://thecoffeeoasis.com/wp-content/uploads/2021/10/FB-Event-Cover_Christmas-Party_2021.png
END:VEVENT
BEGIN:VEVENT
DTSTART;TZID=America/Los_Angeles:20211217T180000
DTEND;TZID=America/Los_Angeles:20211217T210000
DTSTAMP:20230820T140539
CREATED:20211027T204537Z
LAST-MODIFIED:20211027T204537Z
UID:10000094-1639764000-1639774800@thecoffeeoasis.com
SUMMARY:Christmas Party - Bremerton
DESCRIPTION:All those 13-25 years old are invited to The Coffee Oasis Drop-In Centers for a Christmas dinner\, games\, caroling\, and gifts! All FREE! \nBring your friends and family! \nSign up for gifts at your local youth drop-in center by December 10.
URL:https://thecoffeeoasis.com/event/christmas-party-bremerton-2021/
LOCATION:The Coffee Oasis Bremerton Drop-In Center\, 822 Burwell St\, Bremerton\, WA\, 98337\, United States
CATEGORIES:Celebration,Community Events,Events for All Those Ages 13-25,Party
ATTACH;FMTTYPE=image/png:https://thecoffeeoasis.com/wp-content/uploads/2021/10/FB-Event-Cover_Christmas-Party_2021.png
END:VEVENT
BEGIN:VEVENT
DTSTART;TZID=America/Los_Angeles:20211119T180000
DTEND;TZID=America/Los_Angeles:20211119T210000
DTSTAMP:20230820T140539
CREATED:20211027T203517Z
LAST-MODIFIED:20211027T203916Z
UID:10000093-1637344800-1637355600@thecoffeeoasis.com
SUMMARY:Night of Thankfulness - Poulsbo
DESCRIPTION:All those 13-25 years old are invited to The Coffee Oasis Drop-In Centers for a FREE community meal!
URL:https://thecoffeeoasis.com/event/night-of-thankfulness-poulsbo-2021/
LOCATION:The Coffee Oasis Poulsbo Drop-In Center\, 780 NE Iverson St\, Poulsbo\, WA\, WA\, 98370\, United States
CATEGORIES:All Events,Celebration,Community Events,Events for All Those Ages 13-25,Party
ATTACH;FMTTYPE=image/png:https://thecoffeeoasis.com/wp-content/uploads/2021/10/FB_Cover_Night-Thankfulness_2021.png
END:VEVENT
BEGIN:VEVENT
DTSTART;TZID=America/Los_Angeles:20211119T180000
DTEND;TZID=America/Los_Angeles:20211119T210000
DTSTAMP:20230820T140539
CREATED:20211027T203108Z
LAST-MODIFIED:20211027T203901Z
UID:10000092-1637344800-1637355600@thecoffeeoasis.com
SUMMARY:Night of Thankfulness - Port Orchard
DESCRIPTION:All those 13-25 years old are invited to The Coffee Oasis Drop-In Centers for a FREE community meal!
URL:https://thecoffeeoasis.com/event/night-of-thankfulness-port-orchard-2021/
LOCATION:The Coffee Oasis Port Orchard Drop-In Center\, 807A Bay St\, Port Orchard\, WA\, 98366\, United States
CATEGORIES:All Events,Celebration,Community Events,Events for All Those Ages 13-25,Party
ATTACH;FMTTYPE=image/png:https://thecoffeeoasis.com/wp-content/uploads/2021/10/FB_Cover_Night-Thankfulness_2021.png
END:VEVENT
BEGIN:VEVENT
DTSTART;TZID=America/Los_Angeles:20211119T180000
DTEND;TZID=America/Los_Angeles:20211119T210000
DTSTAMP:20230820T140539
CREATED:20211027T202743Z
LAST-MODIFIED:20211027T203844Z
UID:10000091-1637344800-1637355600@thecoffeeoasis.com
SUMMARY:Night of Thankfulness - Kingston
DESCRIPTION:All those 13-25 years old are invited to The Coffee Oasis Drop-In Centers for a FREE community meal!
URL:https://thecoffeeoasis.com/event/night-of-thankfulness-kingston-2021/
LOCATION:The Coffee Oasis Kingston Drop-In Center\, 11212 WA-104\, Kingston\, WA\, 98346\, United States
CATEGORIES:All Events,Celebration,Community Events,Events for All Those Ages 13-25,Party
ATTACH;FMTTYPE=image/png:https://thecoffeeoasis.com/wp-content/uploads/2021/10/FB_Cover_Night-Thankfulness_2021.png
END:VEVENT
BEGIN:VEVENT
DTSTART;TZID=America/Los_Angeles:20211119T180000
DTEND;TZID=America/Los_Angeles:20211119T210000
DTSTAMP:20230820T140539
CREATED:20211027T202410Z
LAST-MODIFIED:20211027T203719Z
UID:10000090-1637344800-1637355600@thecoffeeoasis.com
SUMMARY:Night of Thankfulness - Bremerton
DESCRIPTION:All those 13-25 years old are invited to The Coffee Oasis Drop-In Centers for a FREE community meal!
URL:https://thecoffeeoasis.com/event/night-of-thankfulness-2021-bremerton/
LOCATION:The Coffee Oasis Bremerton Drop-In Center\, 822 Burwell St\, Bremerton\, WA\, 98337\, United States
CATEGORIES:All Events,Celebration,Community Events,Events for All Those Ages 13-25,Party
ATTACH;FMTTYPE=image/png:https://thecoffeeoasis.com/wp-content/uploads/2021/10/FB_Cover_Night-Thankfulness_2021.png
END:VEVENT
BEGIN:VEVENT
DTSTART;TZID=America/Los_Angeles:20211029T180000
DTEND;TZID=America/Los_Angeles:20211029T210000
DTSTAMP:20230820T140539
CREATED:20211027T175441Z
LAST-MODIFIED:20211027T205844Z
UID:10000086-1635530400-1635541200@thecoffeeoasis.com
SUMMARY:Hit the Hay Fall Party - Kingston
DESCRIPTION:All those 13-25 years old are invited to The Coffee Oasis Drop-In Centers for food\, games\, festivities\, and TONS OF CANDY! All FREE!
URL:https://thecoffeeoasis.com/event/hit-the-hay-fall-party-kingston-2021/
LOCATION:The Coffee Oasis Kingston Drop-In Center\, 11212 WA-104\, Kingston\, WA\, 98346\, United States
CATEGORIES:All Events,Celebration,Community Events,Events for All Those Ages 13-25,Party
ATTACH;FMTTYPE=image/png:https://thecoffeeoasis.com/wp-content/uploads/2021/10/Hit-the-Hay-FB-Cover-Image_2021.png
END:VEVENT
BEGIN:VEVENT
DTSTART;TZID=America/Los_Angeles:20211029T180000
DTEND;TZID=America/Los_Angeles:20211029T210000
DTSTAMP:20230820T140539
CREATED:20211027T173505Z
LAST-MODIFIED:20211027T205836Z
UID:10000085-1635530400-1635541200@thecoffeeoasis.com
SUMMARY:Hit the Hay Fall Party - Port Orchard
DESCRIPTION:All those 13-25 years old are invited to The Coffee Oasis Drop-In Centers for food\, games\, festivities\, and TONS OF CANDY! All FREE!
URL:https://thecoffeeoasis.com/event/hit-the-hay-fall-party-port-orchard-2021/
LOCATION:The Coffee Oasis Port Orchard Drop-In Center\, 807A Bay St\, Port Orchard\, WA\, 98366\, United States
CATEGORIES:All Events,Celebration,Community Events,Events for All Those Ages 13-25,Party
ATTACH;FMTTYPE=image/png:https://thecoffeeoasis.com/wp-content/uploads/2021/10/Hit-the-Hay-FB-Cover-Image_2021.png
END:VEVENT
BEGIN:VEVENT
DTSTART;TZID=America/Los_Angeles:20211029T180000
DTEND;TZID=America/Los_Angeles:20211029T210000
DTSTAMP:20230820T140539
CREATED:20211027T172418Z
LAST-MODIFIED:20211027T205814Z
UID:10000084-1635530400-1635541200@thecoffeeoasis.com
SUMMARY:Hit the Hay Fall Party - Bremerton
DESCRIPTION:All those 13-25 years old are invited to The Coffee Oasis Drop-In Centers for food\, games\, festivities\, and TONS OF CANDY! All FREE!
URL:https://thecoffeeoasis.com/event/hit-the-hay-fall-party-bremerton-2021/
LOCATION:The Coffee Oasis Bremerton Drop-In Center\, 822 Burwell St\, Bremerton\, WA\, 98337\, United States
CATEGORIES:All Events,Celebration,Community Events,Events for All Those Ages 13-25,Party
ATTACH;FMTTYPE=image/png:https://thecoffeeoasis.com/wp-content/uploads/2021/10/Hit-the-Hay-FB-Cover-Image_2021.png
END:VEVENT
BEGIN:VEVENT
DTSTART;TZID=America/Los_Angeles:20211029T180000
DTEND;TZID=America/Los_Angeles:20211029T210000
DTSTAMP:20230820T140539
CREATED:20211027T170932Z
LAST-MODIFIED:20211027T205803Z
UID:10000083-1635530400-1635541200@thecoffeeoasis.com
SUMMARY:Hit the Hay Fall Party - Poulsbo
DESCRIPTION:All those 13-25 years old are invited to The Coffee Oasis Drop-In Centers for food\, games\, festivities\, and TONS OF CANDY! All FREE!
URL:https://thecoffeeoasis.com/event/hit-the-hay-fall-party-2021/
LOCATION:The Coffee Oasis Poulsbo Drop-In Center\, 780 NE Iverson St\, Poulsbo\, WA\, WA\, 98370\, United States
CATEGORIES:All Events,Celebration,Community Events,Events for All Those Ages 13-25,Party
ATTACH;FMTTYPE=image/png:https://thecoffeeoasis.com/wp-content/uploads/2021/10/Hit-the-Hay-FB-Cover-Image_2021.png
END:VEVENT
END:VCALENDAR